BEGIN:VCALENDAR
VERSION:2.0
PRODID:icalendar-ruby
CALSCALE:GREGORIAN
METHOD:PUBLISH
BEGIN:VEVENT
DTSTAMP:20260425T133425Z
UID:436-2301253@symphonychurch.com
DTSTART:20260501T233000Z
DTEND:20260502T013000Z
CLASS:PUBLIC
CREATED:20260416T173419
DESCRIPTION:New Song is our Young Adult Friday worship gathering. Join us f
 or worship\, fellowship\, and the Word!
LAST-MODIFIED:20260416T173419
LOCATION:Symphony Church Office
SUMMARY:New Song
URL;VALUE=URI:https://www.symphonychurch.com/events/new-song--436/2026-05-0
 1
ATTACH;FILENAME=New-Song-2026.png;FMTTYPE=image/png:https://dq5pwpg1q8ru0.c
 loudfront.net/2026/04/16/21/34/18/ffcc565a-1a8a-4268-99fc-21c664a5e91e/New
 -Song-2026.png
END:VEVENT
END:VCALENDAR
