BEGIN:VCALENDAR
VERSION:2.0
PRODID:icalendar-ruby
CALSCALE:GREGORIAN
METHOD:PUBLISH
BEGIN:VEVENT
DTSTAMP:20260425T150529Z
UID:437-2301261@symphonychurch.com
DTSTART:20260502T173000Z
DTEND:20260502T193000Z
CLASS:PUBLIC
CREATED:20260416T173626
DESCRIPTION:Miracle Mile Ministries hosts weekly breakfasts at Lion of Juda
 h on Saturday mornings for anyone struggling with poverty and homelessness
 \, and volunteers from churches all around greater Boston come to help out
  each week. Whether you’ve been multiples times before or this is your f
 irst time hearing about it\, we invite you to come out to this info sessio
 n to learn more!
LAST-MODIFIED:20260416T173626
LOCATION:Symphony Church Office
SUMMARY:Miracle Mile Ministries Info Session
URL;VALUE=URI:https://www.symphonychurch.com/events/miracle-mile-ministries
 -info-session/2026-05-02
ATTACH;FILENAME=MMM-Info-Session.png;FMTTYPE=image/png:https://dq5pwpg1q8ru
 0.cloudfront.net/2026/04/16/21/36/25/e773f64f-2f5b-4151-92cf-fa8ff507a92d/
 MMM-Info-Session.png
END:VEVENT
END:VCALENDAR
